BEGIN:VCALENDAR
VERSION:2.0
PRODID:-//360 Alumni//Saint Paul School of Theology//EN
METHOD:REQUEST
BEGIN:VEVENT
UID:11368
DTSTAMP:20250904T233000Z
DTSTART:20250904T233000Z
DTEND:20250905T023000Z
LOCATION:Kaufman Stadium
SUMMARY: Saint Paul Night at the Kansas City Royals
DESCRIPTION: Join the Saint Paul School of Theology Alumni community for a Kansas City Royals game on Thursday, September 4th!Alumni are eligible for up to four tickets, food, and soft drinks. Tickets are available on a first-come, first-served basis. Limited to 36 attendees.&nbsp; Reserve your tickets today!
END:VEVENT
END:VCALENDAR
